BEGIN:VCALENDAR
VERSION:2.0
PRODID:spatie/icalendar-generator
NAME:How AI Is Automating Internal Control
X-WR-CALNAME:How AI Is Automating Internal Control
BEGIN:VTIMEZONE
TZID:America/New_York
BEGIN:STANDARD
DTSTART:20251102T010000
TZOFFSETFROM:-0400
TZOFFSETTO:-0500
END:STANDARD
BEGIN:DAYLIGHT
DTSTART:20260308T010000
TZOFFSETFROM:-0500
TZOFFSETTO:-0400
END:DAYLIGHT
END:VTIMEZONE
BEGIN:VTIMEZONE
TZID:UTC
BEGIN:STANDARD
DTSTART:20250727T190700
TZOFFSETFROM:+0000
TZOFFSETTO:+0000
END:STANDARD
END:VTIMEZONE
BEGIN:VEVENT
UID:69ea6dd4a6263
DTSTAMP:20260423T190700Z
SUMMARY:How AI Is Automating Internal Control
LOCATION: 
URL:https://macpa.org/catalog/events/21242242-how-ai-is-automating-internal
 -control-2026-10-01
DTSTART;TZID=America/New_York:20260110T100000
DTEND;TZID=America/New_York:20260110T140000
END:VEVENT
END:VCALENDAR