BEGIN:VCALENDAR
VERSION:2.0
PRODID:spatie/icalendar-generator
NAME:2024 Revision to Government Auditing Standards Impact
X-WR-CALNAME:2024 Revision to Government Auditing Standards Impact
BEGIN:VTIMEZONE
TZID:America/New_York
BEGIN:STANDARD
DTSTART:20251102T010000
TZOFFSETFROM:-0400
TZOFFSETTO:-0500
END:STANDARD
BEGIN:DAYLIGHT
DTSTART:20260308T010000
TZOFFSETFROM:-0500
TZOFFSETTO:-0400
END:DAYLIGHT
END:VTIMEZONE
BEGIN:VTIMEZONE
TZID:UTC
BEGIN:STANDARD
DTSTART:20250727T095047
TZOFFSETFROM:+0000
TZOFFSETTO:+0000
END:STANDARD
END:VTIMEZONE
BEGIN:VEVENT
UID:69e9eb7756b7c
DTSTAMP:20260423T095047Z
SUMMARY:2024 Revision to Government Auditing Standards Impact
LOCATION: 
URL:https://macpa.org/catalog/events/21242144-2024-revision-to-government-a
 uditing-standards-impact-2026-07-04
DTSTART;TZID=America/New_York:20260407T110000
DTEND;TZID=America/New_York:20260407T150000
END:VEVENT
END:VCALENDAR