BEGIN:VCALENDAR
VERSION:2.0
PRODID:spatie/icalendar-generator
NAME:Monthly Federal Tax Updates - February 2026
X-WR-CALNAME:Monthly Federal Tax Updates - February 2026
BEGIN:VTIMEZONE
TZID:America/New_York
BEGIN:STANDARD
DTSTART:20251102T010000
TZOFFSETFROM:-0400
TZOFFSETTO:-0500
END:STANDARD
BEGIN:DAYLIGHT
DTSTART:20260308T010000
TZOFFSETFROM:-0500
TZOFFSETTO:-0400
END:DAYLIGHT
END:VTIMEZONE
BEGIN:VTIMEZONE
TZID:UTC
BEGIN:STANDARD
DTSTART:20250727T181815
TZOFFSETFROM:+0000
TZOFFSETTO:+0000
END:STANDARD
END:VTIMEZONE
BEGIN:VEVENT
UID:69ea62677378a
DTSTAMP:20260423T181815Z
SUMMARY:Monthly Federal Tax Updates - February 2026
LOCATION: 
URL:https://macpa.org/catalog/events/21242124-monthly-federal-tax-updates-f
 ebruary-2026-2026-23-02
DTSTART;TZID=America/New_York:20260223T110000
DTEND;TZID=America/New_York:20260223T130000
END:VEVENT
END:VCALENDAR