BEGIN:VCALENDAR
VERSION:2.0
PRODID:spatie/icalendar-generator
NAME:How Fraud Can Affect Smaller Organizations
X-WR-CALNAME:How Fraud Can Affect Smaller Organizations
BEGIN:VTIMEZONE
TZID:America/New_York
BEGIN:STANDARD
DTSTART:20251102T010000
TZOFFSETFROM:-0400
TZOFFSETTO:-0500
END:STANDARD
BEGIN:DAYLIGHT
DTSTART:20260308T010000
TZOFFSETFROM:-0500
TZOFFSETTO:-0400
END:DAYLIGHT
END:VTIMEZONE
BEGIN:VTIMEZONE
TZID:UTC
BEGIN:STANDARD
DTSTART:20250727T095012
TZOFFSETFROM:+0000
TZOFFSETTO:+0000
END:STANDARD
END:VTIMEZONE
BEGIN:VEVENT
UID:69e9eb5469f75
DTSTAMP:20260423T095012Z
SUMMARY:How Fraud Can Affect Smaller Organizations
LOCATION: 
URL:https://macpa.org/catalog/events/21242101-how-fraud-can-affect-smaller-
 organizations-2026-07-04
DTSTART;TZID=America/New_York:20260407T093000
DTEND;TZID=America/New_York:20260407T133000
END:VEVENT
END:VCALENDAR