BEGIN:VCALENDAR
VERSION:2.0
PRODID:spatie/icalendar-generator
NAME:Comprehensive Accounting and Financial Reporting Update
X-WR-CALNAME:Comprehensive Accounting and Financial Reporting Update
BEGIN:VTIMEZONE
TZID:America/New_York
BEGIN:STANDARD
DTSTART:20251102T010000
TZOFFSETFROM:-0400
TZOFFSETTO:-0500
END:STANDARD
BEGIN:DAYLIGHT
DTSTART:20260308T010000
TZOFFSETFROM:-0500
TZOFFSETTO:-0400
END:DAYLIGHT
END:VTIMEZONE
BEGIN:VTIMEZONE
TZID:UTC
BEGIN:STANDARD
DTSTART:20250727T095011
TZOFFSETFROM:+0000
TZOFFSETTO:+0000
END:STANDARD
END:VTIMEZONE
BEGIN:VEVENT
UID:69e9eb53cfcab
DTSTAMP:20260423T095011Z
SUMMARY:Comprehensive Accounting and Financial Reporting Update
LOCATION: 
URL:https://macpa.org/catalog/events/21242099-comprehensive-accounting-and-
 financial-reporting-update-2026-23-02
DTSTART;TZID=America/New_York:20260223T103000
DTEND;TZID=America/New_York:20260223T143000
END:VEVENT
END:VCALENDAR