BEGIN:VCALENDAR
VERSION:2.0
PRODID:spatie/icalendar-generator
NAME:Keeping Up with the FASB
X-WR-CALNAME:Keeping Up with the FASB
BEGIN:VTIMEZONE
TZID:America/New_York
BEGIN:STANDARD
DTSTART:20251102T010000
TZOFFSETFROM:-0400
TZOFFSETTO:-0500
END:STANDARD
BEGIN:DAYLIGHT
DTSTART:20260308T010000
TZOFFSETFROM:-0500
TZOFFSETTO:-0400
END:DAYLIGHT
END:VTIMEZONE
BEGIN:VTIMEZONE
TZID:UTC
BEGIN:STANDARD
DTSTART:20250727T150200
TZOFFSETFROM:+0000
TZOFFSETTO:+0000
END:STANDARD
END:VTIMEZONE
BEGIN:VEVENT
UID:69ea3468ba271
DTSTAMP:20260423T150200Z
SUMMARY:Keeping Up with the FASB
LOCATION: 
URL:https://macpa.org/catalog/events/21241989-keeping-up-with-the-fasb-2026
 -20-02
DTSTART;TZID=America/New_York:20260220T160000
DTEND;TZID=America/New_York:20260220T180000
END:VEVENT
END:VCALENDAR