BEGIN:VCALENDAR
VERSION:2.0
PRODID:spatie/icalendar-generator
NAME:Disrupt to Dominate: Mastering Change Leadership
X-WR-CALNAME:Disrupt to Dominate: Mastering Change Leadership
BEGIN:VTIMEZONE
TZID:America/New_York
BEGIN:STANDARD
DTSTART:20251102T010000
TZOFFSETFROM:-0400
TZOFFSETTO:-0500
END:STANDARD
BEGIN:DAYLIGHT
DTSTART:20260308T010000
TZOFFSETFROM:-0500
TZOFFSETTO:-0400
END:DAYLIGHT
END:VTIMEZONE
BEGIN:VTIMEZONE
TZID:UTC
BEGIN:STANDARD
DTSTART:20250727T150237
TZOFFSETFROM:+0000
TZOFFSETTO:+0000
END:STANDARD
END:VTIMEZONE
BEGIN:VEVENT
UID:69ea348d37c40
DTSTAMP:20260423T150237Z
SUMMARY:Disrupt to Dominate: Mastering Change Leadership
LOCATION: 
URL:https://macpa.org/catalog/events/21241895-disrupt-to-dominate-mastering
 -change-leadership-2026-06-04
DTSTART;TZID=America/New_York:20260406T130000
DTEND;TZID=America/New_York:20260406T170000
END:VEVENT
END:VCALENDAR