BEGIN:VCALENDAR
VERSION:2.0
PRODID:spatie/icalendar-generator
NAME:How to Audit Inventory
X-WR-CALNAME:How to Audit Inventory
BEGIN:VTIMEZONE
TZID:America/New_York
BEGIN:STANDARD
DTSTART:20251102T010000
TZOFFSETFROM:-0400
TZOFFSETTO:-0500
END:STANDARD
BEGIN:DAYLIGHT
DTSTART:20260308T010000
TZOFFSETFROM:-0500
TZOFFSETTO:-0400
END:DAYLIGHT
END:VTIMEZONE
BEGIN:VTIMEZONE
TZID:UTC
BEGIN:STANDARD
DTSTART:20250727T150423
TZOFFSETFROM:+0000
TZOFFSETTO:+0000
END:STANDARD
END:VTIMEZONE
BEGIN:VEVENT
UID:69ea34f72bf20
DTSTAMP:20260423T150423Z
SUMMARY:How to Audit Inventory
LOCATION: 
URL:https://macpa.org/catalog/events/21241882-how-to-audit-inventory-2026-2
 0-02
DTSTART;TZID=America/New_York:20260220T133000
DTEND;TZID=America/New_York:20260220T153000
END:VEVENT
END:VCALENDAR