BEGIN:VCALENDAR
VERSION:2.0
PRODID:spatie/icalendar-generator
NAME:Installment sales: Maximize Tax Benefits and Stay Compliant
X-WR-CALNAME:Installment sales: Maximize Tax Benefits and Stay Compliant
BEGIN:VTIMEZONE
TZID:America/New_York
BEGIN:STANDARD
DTSTART:20251102T010000
TZOFFSETFROM:-0400
TZOFFSETTO:-0500
END:STANDARD
BEGIN:DAYLIGHT
DTSTART:20260308T010000
TZOFFSETFROM:-0500
TZOFFSETTO:-0400
END:DAYLIGHT
END:VTIMEZONE
BEGIN:VTIMEZONE
TZID:UTC
BEGIN:STANDARD
DTSTART:20250727T133740
TZOFFSETFROM:+0000
TZOFFSETTO:+0000
END:STANDARD
END:VTIMEZONE
BEGIN:VEVENT
UID:69ea20a45255d
DTSTAMP:20260423T133740Z
SUMMARY:Installment sales: Maximize Tax Benefits and Stay Compliant
LOCATION: 
URL:https://macpa.org/catalog/events/21241850-installment-sales-maximize-ta
 x-benefits-and-stay-compliant-2026-20-02
DTSTART;TZID=America/New_York:20260220T130000
DTEND;TZID=America/New_York:20260220T140000
END:VEVENT
END:VCALENDAR