BEGIN:VCALENDAR
VERSION:2.0
PRODID:spatie/icalendar-generator
NAME:The Ethical Management of Conflict
X-WR-CALNAME:The Ethical Management of Conflict
BEGIN:VTIMEZONE
TZID:America/New_York
BEGIN:STANDARD
DTSTART:20251102T010000
TZOFFSETFROM:-0400
TZOFFSETTO:-0500
END:STANDARD
BEGIN:DAYLIGHT
DTSTART:20260308T010000
TZOFFSETFROM:-0500
TZOFFSETTO:-0400
END:DAYLIGHT
END:VTIMEZONE
BEGIN:VTIMEZONE
TZID:UTC
BEGIN:STANDARD
DTSTART:20250727T133753
TZOFFSETFROM:+0000
TZOFFSETTO:+0000
END:STANDARD
END:VTIMEZONE
BEGIN:VEVENT
UID:69ea20b1b335f
DTSTAMP:20260423T133753Z
SUMMARY:The Ethical Management of Conflict
LOCATION: 
URL:https://macpa.org/catalog/events/21241847-the-ethical-management-of-con
 flict-2026-06-04
DTSTART;TZID=America/New_York:20260406T120000
DTEND;TZID=America/New_York:20260406T140000
END:VEVENT
END:VCALENDAR