BEGIN:VCALENDAR
VERSION:2.0
PRODID:spatie/icalendar-generator
NAME:Taking Advantage of Array Formulas in Excel
X-WR-CALNAME:Taking Advantage of Array Formulas in Excel
BEGIN:VTIMEZONE
TZID:America/New_York
BEGIN:STANDARD
DTSTART:20251102T010000
TZOFFSETFROM:-0400
TZOFFSETTO:-0500
END:STANDARD
BEGIN:DAYLIGHT
DTSTART:20260308T010000
TZOFFSETFROM:-0500
TZOFFSETTO:-0400
END:DAYLIGHT
END:VTIMEZONE
BEGIN:VTIMEZONE
TZID:UTC
BEGIN:STANDARD
DTSTART:20250727T094647
TZOFFSETFROM:+0000
TZOFFSETTO:+0000
END:STANDARD
END:VTIMEZONE
BEGIN:VEVENT
UID:69e9ea87b3746
DTSTAMP:20260423T094647Z
SUMMARY:Taking Advantage of Array Formulas in Excel
LOCATION: 
URL:https://macpa.org/catalog/events/21241806-taking-advantage-of-array-for
 mulas-in-excel-2026-20-02
DTSTART;TZID=America/New_York:20260220T120000
DTEND;TZID=America/New_York:20260220T140000
END:VEVENT
END:VCALENDAR