BEGIN:VCALENDAR
VERSION:2.0
PRODID:spatie/icalendar-generator
NAME:Individual Tax Update: Recent Developments
X-WR-CALNAME:Individual Tax Update: Recent Developments
BEGIN:VTIMEZONE
TZID:America/New_York
BEGIN:STANDARD
DTSTART:20251102T010000
TZOFFSETFROM:-0400
TZOFFSETTO:-0500
END:STANDARD
BEGIN:DAYLIGHT
DTSTART:20260308T010000
TZOFFSETFROM:-0500
TZOFFSETTO:-0400
END:DAYLIGHT
END:VTIMEZONE
BEGIN:VTIMEZONE
TZID:UTC
BEGIN:STANDARD
DTSTART:20250727T132855
TZOFFSETFROM:+0000
TZOFFSETTO:+0000
END:STANDARD
END:VTIMEZONE
BEGIN:VEVENT
UID:69ea1e97921b0
DTSTAMP:20260423T132855Z
SUMMARY:Individual Tax Update: Recent Developments
LOCATION: 
URL:https://macpa.org/catalog/events/21241799-individual-tax-update-recent-
 developments-2026-20-02
DTSTART;TZID=America/New_York:20260220T120000
DTEND;TZID=America/New_York:20260220T140000
END:VEVENT
END:VCALENDAR