BEGIN:VCALENDAR
VERSION:2.0
PRODID:spatie/icalendar-generator
NAME:Monthly Federal Tax Updates - April 2026
X-WR-CALNAME:Monthly Federal Tax Updates - April 2026
BEGIN:VTIMEZONE
TZID:America/New_York
BEGIN:STANDARD
DTSTART:20251102T010000
TZOFFSETFROM:-0400
TZOFFSETTO:-0500
END:STANDARD
BEGIN:DAYLIGHT
DTSTART:20260308T010000
TZOFFSETFROM:-0500
TZOFFSETTO:-0400
END:DAYLIGHT
END:VTIMEZONE
BEGIN:VTIMEZONE
TZID:UTC
BEGIN:STANDARD
DTSTART:20250727T150456
TZOFFSETFROM:+0000
TZOFFSETTO:+0000
END:STANDARD
END:VTIMEZONE
BEGIN:VEVENT
UID:69ea35180761f
DTSTAMP:20260423T150456Z
SUMMARY:Monthly Federal Tax Updates - April 2026
LOCATION: 
URL:https://macpa.org/catalog/events/21241775-monthly-federal-tax-updates-a
 pril-2026-2026-06-04
DTSTART;TZID=America/New_York:20260406T110000
DTEND;TZID=America/New_York:20260406T130000
END:VEVENT
END:VCALENDAR