BEGIN:VCALENDAR
VERSION:2.0
PRODID:spatie/icalendar-generator
NAME:Power BI - Bringing It All Together for Data Analysis
X-WR-CALNAME:Power BI - Bringing It All Together for Data Analysis
BEGIN:VTIMEZONE
TZID:America/New_York
BEGIN:STANDARD
DTSTART:20251102T010000
TZOFFSETFROM:-0400
TZOFFSETTO:-0500
END:STANDARD
BEGIN:DAYLIGHT
DTSTART:20260308T010000
TZOFFSETFROM:-0500
TZOFFSETTO:-0400
END:DAYLIGHT
END:VTIMEZONE
BEGIN:VTIMEZONE
TZID:UTC
BEGIN:STANDARD
DTSTART:20250727T162417
TZOFFSETFROM:+0000
TZOFFSETTO:+0000
END:STANDARD
END:VTIMEZONE
BEGIN:VEVENT
UID:69ea47b188b93
DTSTAMP:20260423T162417Z
SUMMARY:Power BI - Bringing It All Together for Data Analysis
LOCATION: 
URL:https://macpa.org/catalog/events/21241746-power-bi-bringing-it-all-toge
 ther-for-data-analysis-2026-06-04
DTSTART;TZID=America/New_York:20260406T100000
DTEND;TZID=America/New_York:20260406T120000
END:VEVENT
END:VCALENDAR