BEGIN:VCALENDAR
VERSION:2.0
PRODID:spatie/icalendar-generator
NAME:2025 Single Audit Update
X-WR-CALNAME:2025 Single Audit Update
BEGIN:VTIMEZONE
TZID:America/New_York
BEGIN:STANDARD
DTSTART:20251102T010000
TZOFFSETFROM:-0400
TZOFFSETTO:-0500
END:STANDARD
BEGIN:DAYLIGHT
DTSTART:20260308T010000
TZOFFSETFROM:-0500
TZOFFSETTO:-0400
END:DAYLIGHT
END:VTIMEZONE
BEGIN:VTIMEZONE
TZID:UTC
BEGIN:STANDARD
DTSTART:20250727T094638
TZOFFSETFROM:+0000
TZOFFSETTO:+0000
END:STANDARD
END:VTIMEZONE
BEGIN:VEVENT
UID:69e9ea7e68946
DTSTAMP:20260423T094638Z
SUMMARY:2025 Single Audit Update
LOCATION: 
URL:https://macpa.org/catalog/events/21241747-2025-single-audit-update-2026
 -20-02
DTSTART;TZID=America/New_York:20260220T110000
DTEND;TZID=America/New_York:20260220T130000
END:VEVENT
END:VCALENDAR