BEGIN:VCALENDAR
VERSION:2.0
PRODID:spatie/icalendar-generator
NAME:Leveraging Marketing Automation for Accounting Firm Growth
X-WR-CALNAME:Leveraging Marketing Automation for Accounting Firm Growth
BEGIN:VTIMEZONE
TZID:America/New_York
BEGIN:STANDARD
DTSTART:20251102T010000
TZOFFSETFROM:-0400
TZOFFSETTO:-0500
END:STANDARD
BEGIN:DAYLIGHT
DTSTART:20260308T010000
TZOFFSETFROM:-0500
TZOFFSETTO:-0400
END:DAYLIGHT
END:VTIMEZONE
BEGIN:VTIMEZONE
TZID:UTC
BEGIN:STANDARD
DTSTART:20250727T134459
TZOFFSETFROM:+0000
TZOFFSETTO:+0000
END:STANDARD
END:VTIMEZONE
BEGIN:VEVENT
UID:69ea225b67667
DTSTAMP:20260423T134459Z
SUMMARY:Leveraging Marketing Automation for Accounting Firm Growth
LOCATION: 
URL:https://macpa.org/catalog/events/21241735-leveraging-marketing-automati
 on-for-accounting-firm-growth-2026-06-04
DTSTART;TZID=America/New_York:20260406T093000
DTEND;TZID=America/New_York:20260406T103000
END:VEVENT
END:VCALENDAR