BEGIN:VCALENDAR
VERSION:2.0
PRODID:spatie/icalendar-generator
NAME:Leveraging ChatGPT for Innovative Business Advisory Services
X-WR-CALNAME:Leveraging ChatGPT for Innovative Business Advisory Services
BEGIN:VTIMEZONE
TZID:America/New_York
BEGIN:STANDARD
DTSTART:20251102T010000
TZOFFSETFROM:-0400
TZOFFSETTO:-0500
END:STANDARD
BEGIN:DAYLIGHT
DTSTART:20260308T010000
TZOFFSETFROM:-0500
TZOFFSETTO:-0400
END:DAYLIGHT
END:VTIMEZONE
BEGIN:VTIMEZONE
TZID:UTC
BEGIN:STANDARD
DTSTART:20250727T095047
TZOFFSETFROM:+0000
TZOFFSETTO:+0000
END:STANDARD
END:VTIMEZONE
BEGIN:VEVENT
UID:69e9eb77a1568
DTSTAMP:20260423T095047Z
SUMMARY:Leveraging ChatGPT for Innovative Business Advisory Services
LOCATION: 
URL:https://macpa.org/catalog/events/21241710-leveraging-chatgpt-for-innova
 tive-business-advisory-services-2026-06-04
DTSTART;TZID=America/New_York:20260406T093000
DTEND;TZID=America/New_York:20260406T113000
END:VEVENT
END:VCALENDAR