BEGIN:VCALENDAR
VERSION:2.0
PRODID:spatie/icalendar-generator
NAME:How Fraud Can Affect Smaller Organizations
X-WR-CALNAME:How Fraud Can Affect Smaller Organizations
BEGIN:VTIMEZONE
TZID:America/New_York
BEGIN:STANDARD
DTSTART:20251102T010000
TZOFFSETFROM:-0400
TZOFFSETTO:-0500
END:STANDARD
BEGIN:DAYLIGHT
DTSTART:20260308T010000
TZOFFSETFROM:-0500
TZOFFSETTO:-0400
END:DAYLIGHT
END:VTIMEZONE
BEGIN:VTIMEZONE
TZID:UTC
BEGIN:STANDARD
DTSTART:20250727T094539
TZOFFSETFROM:+0000
TZOFFSETTO:+0000
END:STANDARD
END:VTIMEZONE
BEGIN:VEVENT
UID:69e9ea434636b
DTSTAMP:20260423T094539Z
SUMMARY:How Fraud Can Affect Smaller Organizations
LOCATION: 
URL:https://macpa.org/catalog/events/21241707-how-fraud-can-affect-smaller-
 organizations-2026-20-02
DTSTART;TZID=America/New_York:20260220T100000
DTEND;TZID=America/New_York:20260220T140000
END:VEVENT
END:VCALENDAR