BEGIN:VCALENDAR
VERSION:2.0
PRODID:spatie/icalendar-generator
NAME:How to Audit Expenses & Payables
X-WR-CALNAME:How to Audit Expenses & Payables
BEGIN:VTIMEZONE
TZID:America/New_York
BEGIN:STANDARD
DTSTART:20251102T010000
TZOFFSETFROM:-0400
TZOFFSETTO:-0500
END:STANDARD
BEGIN:DAYLIGHT
DTSTART:20260308T010000
TZOFFSETFROM:-0500
TZOFFSETTO:-0400
END:DAYLIGHT
END:VTIMEZONE
BEGIN:VTIMEZONE
TZID:UTC
BEGIN:STANDARD
DTSTART:20250727T150440
TZOFFSETFROM:+0000
TZOFFSETTO:+0000
END:STANDARD
END:VTIMEZONE
BEGIN:VEVENT
UID:69ea3508a190a
DTSTAMP:20260423T150440Z
SUMMARY:How to Audit Expenses & Payables
LOCATION: 
URL:https://macpa.org/catalog/events/21241686-how-to-audit-expenses-payable
 s-2026-06-04
DTSTART;TZID=America/New_York:20260406T090000
DTEND;TZID=America/New_York:20260406T110000
END:VEVENT
END:VCALENDAR