BEGIN:VCALENDAR
VERSION:2.0
PRODID:spatie/icalendar-generator
NAME:Internal Control Changes for Remote Workers
X-WR-CALNAME:Internal Control Changes for Remote Workers
BEGIN:VTIMEZONE
TZID:America/New_York
BEGIN:STANDARD
DTSTART:20251102T010000
TZOFFSETFROM:-0400
TZOFFSETTO:-0500
END:STANDARD
BEGIN:DAYLIGHT
DTSTART:20260308T010000
TZOFFSETFROM:-0500
TZOFFSETTO:-0400
END:DAYLIGHT
END:VTIMEZONE
BEGIN:VTIMEZONE
TZID:UTC
BEGIN:STANDARD
DTSTART:20250727T094310
TZOFFSETFROM:+0000
TZOFFSETTO:+0000
END:STANDARD
END:VTIMEZONE
BEGIN:VEVENT
UID:69e9e9aed41f7
DTSTAMP:20260423T094310Z
SUMMARY:Internal Control Changes for Remote Workers
LOCATION: 
URL:https://macpa.org/catalog/events/21241680-internal-control-changes-for-
 remote-workers-2026-20-02
DTSTART;TZID=America/New_York:20260220T093000
DTEND;TZID=America/New_York:20260220T113000
END:VEVENT
END:VCALENDAR