BEGIN:VCALENDAR
VERSION:2.0
PRODID:spatie/icalendar-generator
NAME:Yellow Book Ethics
X-WR-CALNAME:Yellow Book Ethics
BEGIN:VTIMEZONE
TZID:America/New_York
BEGIN:STANDARD
DTSTART:20251102T010000
TZOFFSETFROM:-0400
TZOFFSETTO:-0500
END:STANDARD
BEGIN:DAYLIGHT
DTSTART:20260308T010000
TZOFFSETFROM:-0500
TZOFFSETTO:-0400
END:DAYLIGHT
END:VTIMEZONE
BEGIN:VTIMEZONE
TZID:UTC
BEGIN:STANDARD
DTSTART:20250727T132723
TZOFFSETFROM:+0000
TZOFFSETTO:+0000
END:STANDARD
END:VTIMEZONE
BEGIN:VEVENT
UID:69ea1e3bbccbd
DTSTAMP:20260423T132723Z
SUMMARY:Yellow Book Ethics
LOCATION: 
URL:https://macpa.org/catalog/events/21241649-yellow-book-ethics-2026-20-02
DTSTART;TZID=America/New_York:20260220T090000
DTEND;TZID=America/New_York:20260220T110000
END:VEVENT
END:VCALENDAR