BEGIN:VCALENDAR
VERSION:2.0
PRODID:spatie/icalendar-generator
NAME:Walter Haig's GAAP for SMEs\, Tax & Cash Frameworks Update
X-WR-CALNAME:Walter Haig's GAAP for SMEs\, Tax & Cash Frameworks Update
BEGIN:VTIMEZONE
TZID:America/New_York
BEGIN:STANDARD
DTSTART:20251102T010000
TZOFFSETFROM:-0400
TZOFFSETTO:-0500
END:STANDARD
BEGIN:DAYLIGHT
DTSTART:20260308T010000
TZOFFSETFROM:-0500
TZOFFSETTO:-0400
END:DAYLIGHT
END:VTIMEZONE
BEGIN:VTIMEZONE
TZID:UTC
BEGIN:STANDARD
DTSTART:20250727T150140
TZOFFSETFROM:+0000
TZOFFSETTO:+0000
END:STANDARD
END:VTIMEZONE
BEGIN:VEVENT
UID:69ea3454b918a
DTSTAMP:20260423T150140Z
SUMMARY:Walter Haig's GAAP for SMEs\, Tax & Cash Frameworks Update
LOCATION: 
URL:https://macpa.org/catalog/events/21241640-walter-haigs-gaap-for-smes-ta
 x-cash-frameworks-update-2026-20-02
DTSTART;TZID=America/New_York:20260220T090000
DTEND;TZID=America/New_York:20260220T170000
END:VEVENT
END:VCALENDAR