BEGIN:VCALENDAR
VERSION:2.0
PRODID:spatie/icalendar-generator
NAME:Seeing Beyond the Numbers: Analysis for CFOs & Controllers
X-WR-CALNAME:Seeing Beyond the Numbers: Analysis for CFOs & Controllers
BEGIN:VTIMEZONE
TZID:America/New_York
BEGIN:STANDARD
DTSTART:20251102T010000
TZOFFSETFROM:-0400
TZOFFSETTO:-0500
END:STANDARD
BEGIN:DAYLIGHT
DTSTART:20260308T010000
TZOFFSETFROM:-0500
TZOFFSETTO:-0400
END:DAYLIGHT
END:VTIMEZONE
BEGIN:VTIMEZONE
TZID:UTC
BEGIN:STANDARD
DTSTART:20250727T133011
TZOFFSETFROM:+0000
TZOFFSETTO:+0000
END:STANDARD
END:VTIMEZONE
BEGIN:VEVENT
UID:69ea1ee37efba
DTSTAMP:20260423T133011Z
SUMMARY:Seeing Beyond the Numbers: Analysis for CFOs & Controllers
LOCATION: 
URL:https://macpa.org/catalog/events/21241617-seeing-beyond-the-numbers-ana
 lysis-for-cfos-controllers-2026-20-02
DTSTART;TZID=America/New_York:20260220T090000
DTEND;TZID=America/New_York:20260220T130000
END:VEVENT
END:VCALENDAR