BEGIN:VCALENDAR
VERSION:2.0
PRODID:spatie/icalendar-generator
NAME:Create Paginated Reports with Power BI Report Builder
X-WR-CALNAME:Create Paginated Reports with Power BI Report Builder
BEGIN:VTIMEZONE
TZID:America/New_York
BEGIN:STANDARD
DTSTART:20251102T010000
TZOFFSETFROM:-0400
TZOFFSETTO:-0500
END:STANDARD
BEGIN:DAYLIGHT
DTSTART:20260308T010000
TZOFFSETFROM:-0500
TZOFFSETTO:-0400
END:DAYLIGHT
END:VTIMEZONE
BEGIN:VTIMEZONE
TZID:UTC
BEGIN:STANDARD
DTSTART:20250727T133028
TZOFFSETFROM:+0000
TZOFFSETTO:+0000
END:STANDARD
END:VTIMEZONE
BEGIN:VEVENT
UID:69ea1ef4d4453
DTSTAMP:20260423T133028Z
SUMMARY:Create Paginated Reports with Power BI Report Builder
LOCATION: 
URL:https://macpa.org/catalog/events/21241517-create-paginated-reports-with
 -power-bi-report-builder-2026-19-02
DTSTART;TZID=America/New_York:20260219T153000
DTEND;TZID=America/New_York:20260219T173000
END:VEVENT
END:VCALENDAR