BEGIN:VCALENDAR
VERSION:2.0
PRODID:spatie/icalendar-generator
NAME:Implementing an AI-Enabled Marketing Strategy for Your Firm
X-WR-CALNAME:Implementing an AI-Enabled Marketing Strategy for Your Firm
BEGIN:VTIMEZONE
TZID:America/New_York
BEGIN:STANDARD
DTSTART:20251102T010000
TZOFFSETFROM:-0400
TZOFFSETTO:-0500
END:STANDARD
BEGIN:DAYLIGHT
DTSTART:20260308T010000
TZOFFSETFROM:-0500
TZOFFSETTO:-0400
END:DAYLIGHT
END:VTIMEZONE
BEGIN:VTIMEZONE
TZID:UTC
BEGIN:STANDARD
DTSTART:20250727T094940
TZOFFSETFROM:+0000
TZOFFSETTO:+0000
END:STANDARD
END:VTIMEZONE
BEGIN:VEVENT
UID:69e9eb34097cd
DTSTAMP:20260423T094940Z
SUMMARY:Implementing an AI-Enabled Marketing Strategy for Your Firm
LOCATION: 
URL:https://macpa.org/catalog/events/21241492-implementing-an-ai-enabled-ma
 rketing-strategy-for-your-firm-2026-03-04
DTSTART;TZID=America/New_York:20260403T130000
DTEND;TZID=America/New_York:20260403T140000
END:VEVENT
END:VCALENDAR