BEGIN:VCALENDAR
VERSION:2.0
PRODID:spatie/icalendar-generator
NAME:Forensic Accounting: Crafting Expert Reports
X-WR-CALNAME:Forensic Accounting: Crafting Expert Reports
BEGIN:VTIMEZONE
TZID:America/New_York
BEGIN:STANDARD
DTSTART:20251102T010000
TZOFFSETFROM:-0400
TZOFFSETTO:-0500
END:STANDARD
BEGIN:DAYLIGHT
DTSTART:20260308T010000
TZOFFSETFROM:-0500
TZOFFSETTO:-0400
END:DAYLIGHT
END:VTIMEZONE
BEGIN:VTIMEZONE
TZID:UTC
BEGIN:STANDARD
DTSTART:20250727T150210
TZOFFSETFROM:+0000
TZOFFSETTO:+0000
END:STANDARD
END:VTIMEZONE
BEGIN:VEVENT
UID:69ea34727522e
DTSTAMP:20260423T150210Z
SUMMARY:Forensic Accounting: Crafting Expert Reports
LOCATION: 
URL:https://macpa.org/catalog/events/21241379-forensic-accounting-crafting-
 expert-reports-2026-03-04
DTSTART;TZID=America/New_York:20260403T110000
DTEND;TZID=America/New_York:20260403T150000
END:VEVENT
END:VCALENDAR