BEGIN:VCALENDAR
VERSION:2.0
PRODID:spatie/icalendar-generator
NAME:2024 Revision to Government Auditing Standards Impact
X-WR-CALNAME:2024 Revision to Government Auditing Standards Impact
BEGIN:VTIMEZONE
TZID:America/New_York
BEGIN:STANDARD
DTSTART:20251102T010000
TZOFFSETFROM:-0400
TZOFFSETTO:-0500
END:STANDARD
BEGIN:DAYLIGHT
DTSTART:20260308T010000
TZOFFSETFROM:-0500
TZOFFSETTO:-0400
END:DAYLIGHT
END:VTIMEZONE
BEGIN:VTIMEZONE
TZID:UTC
BEGIN:STANDARD
DTSTART:20250727T150339
TZOFFSETFROM:+0000
TZOFFSETTO:+0000
END:STANDARD
END:VTIMEZONE
BEGIN:VEVENT
UID:69ea34cbac3d7
DTSTAMP:20260423T150339Z
SUMMARY:2024 Revision to Government Auditing Standards Impact
LOCATION: 
URL:https://macpa.org/catalog/events/21241239-2024-revision-to-government-a
 uditing-standards-impact-2026-03-04
DTSTART;TZID=America/New_York:20260403T090000
DTEND;TZID=America/New_York:20260403T130000
END:VEVENT
END:VCALENDAR