BEGIN:VCALENDAR
VERSION:2.0
PRODID:spatie/icalendar-generator
NAME:Tax Implications of Retirement Plan Distributions
X-WR-CALNAME:Tax Implications of Retirement Plan Distributions
BEGIN:VTIMEZONE
TZID:America/New_York
BEGIN:STANDARD
DTSTART:20251102T010000
TZOFFSETFROM:-0400
TZOFFSETTO:-0500
END:STANDARD
BEGIN:DAYLIGHT
DTSTART:20260308T010000
TZOFFSETFROM:-0500
TZOFFSETTO:-0400
END:DAYLIGHT
END:VTIMEZONE
BEGIN:VTIMEZONE
TZID:UTC
BEGIN:STANDARD
DTSTART:20250727T094539
TZOFFSETFROM:+0000
TZOFFSETTO:+0000
END:STANDARD
END:VTIMEZONE
BEGIN:VEVENT
UID:69e9ea4319ffe
DTSTAMP:20260423T094539Z
SUMMARY:Tax Implications of Retirement Plan Distributions
LOCATION: 
URL:https://macpa.org/catalog/events/21241162-tax-implications-of-retiremen
 t-plan-distributions-2026-19-02
DTSTART;TZID=America/New_York:20260219T090000
DTEND;TZID=America/New_York:20260219T100000
END:VEVENT
END:VCALENDAR