BEGIN:VCALENDAR
VERSION:2.0
PRODID:spatie/icalendar-generator
NAME:Get started with Power BI
X-WR-CALNAME:Get started with Power BI
BEGIN:VTIMEZONE
TZID:America/New_York
BEGIN:STANDARD
DTSTART:20251102T010000
TZOFFSETFROM:-0400
TZOFFSETTO:-0500
END:STANDARD
BEGIN:DAYLIGHT
DTSTART:20260308T010000
TZOFFSETFROM:-0500
TZOFFSETTO:-0400
END:DAYLIGHT
END:VTIMEZONE
BEGIN:VTIMEZONE
TZID:UTC
BEGIN:STANDARD
DTSTART:20250727T150456
TZOFFSETFROM:+0000
TZOFFSETTO:+0000
END:STANDARD
END:VTIMEZONE
BEGIN:VEVENT
UID:69ea35184a3d2
DTSTAMP:20260423T150456Z
SUMMARY:Get started with Power BI
LOCATION: 
URL:https://macpa.org/catalog/events/21241075-get-started-with-power-bi-202
 6-18-02
DTSTART;TZID=America/New_York:20260218T160000
DTEND;TZID=America/New_York:20260218T180000
END:VEVENT
END:VCALENDAR