BEGIN:VCALENDAR
VERSION:2.0
PRODID:spatie/icalendar-generator
NAME:Technology Trends Update for CPAs with John Higgins
X-WR-CALNAME:Technology Trends Update for CPAs with John Higgins
BEGIN:VTIMEZONE
TZID:America/New_York
BEGIN:STANDARD
DTSTART:20251102T010000
TZOFFSETFROM:-0400
TZOFFSETTO:-0500
END:STANDARD
BEGIN:DAYLIGHT
DTSTART:20260308T010000
TZOFFSETFROM:-0500
TZOFFSETTO:-0400
END:DAYLIGHT
END:VTIMEZONE
BEGIN:VTIMEZONE
TZID:UTC
BEGIN:STANDARD
DTSTART:20250727T094427
TZOFFSETFROM:+0000
TZOFFSETTO:+0000
END:STANDARD
END:VTIMEZONE
BEGIN:VEVENT
UID:69e9e9fb80c58
DTSTAMP:20260423T094427Z
SUMMARY:Technology Trends Update for CPAs with John Higgins
LOCATION: 
URL:https://macpa.org/catalog/events/21240993-technology-trends-update-for-
 cpas-with-john-higgins-2026-18-02
DTSTART;TZID=America/New_York:20260218T140000
DTEND;TZID=America/New_York:20260218T180000
END:VEVENT
END:VCALENDAR