BEGIN:VCALENDAR
VERSION:2.0
PRODID:spatie/icalendar-generator
NAME:2025 Governmental GAAP Update: Navigating GASB Standards
X-WR-CALNAME:2025 Governmental GAAP Update: Navigating GASB Standards
BEGIN:VTIMEZONE
TZID:America/New_York
BEGIN:STANDARD
DTSTART:20251102T010000
TZOFFSETFROM:-0400
TZOFFSETTO:-0500
END:STANDARD
BEGIN:DAYLIGHT
DTSTART:20260308T010000
TZOFFSETFROM:-0500
TZOFFSETTO:-0400
END:DAYLIGHT
END:VTIMEZONE
BEGIN:VTIMEZONE
TZID:UTC
BEGIN:STANDARD
DTSTART:20250727T150524
TZOFFSETFROM:+0000
TZOFFSETTO:+0000
END:STANDARD
END:VTIMEZONE
BEGIN:VEVENT
UID:69ea35341f1e8
DTSTAMP:20260423T150524Z
SUMMARY:2025 Governmental GAAP Update: Navigating GASB Standards
LOCATION: 
URL:https://macpa.org/catalog/events/21240941-2025-governmental-gaap-update
 -navigating-gasb-standards-2026-18-02
DTSTART;TZID=America/New_York:20260218T133000
DTEND;TZID=America/New_York:20260218T153000
END:VEVENT
END:VCALENDAR