BEGIN:VCALENDAR
VERSION:2.0
PRODID:spatie/icalendar-generator
NAME:Microsoft 365: Save More Time\, Make More Money
X-WR-CALNAME:Microsoft 365: Save More Time\, Make More Money
BEGIN:VTIMEZONE
TZID:America/New_York
BEGIN:STANDARD
DTSTART:20251102T010000
TZOFFSETFROM:-0400
TZOFFSETTO:-0500
END:STANDARD
BEGIN:DAYLIGHT
DTSTART:20260308T010000
TZOFFSETFROM:-0500
TZOFFSETTO:-0400
END:DAYLIGHT
END:VTIMEZONE
BEGIN:VTIMEZONE
TZID:UTC
BEGIN:STANDARD
DTSTART:20250727T094600
TZOFFSETFROM:+0000
TZOFFSETTO:+0000
END:STANDARD
END:VTIMEZONE
BEGIN:VEVENT
UID:69e9ea58b2c9d
DTSTAMP:20260423T094600Z
SUMMARY:Microsoft 365: Save More Time\, Make More Money
LOCATION: 
URL:https://macpa.org/catalog/events/21240886-microsoft-365-save-more-time-
 make-more-money-2026-02-04
DTSTART;TZID=America/New_York:20260402T100000
DTEND;TZID=America/New_York:20260402T140000
END:VEVENT
END:VCALENDAR