BEGIN:VCALENDAR
VERSION:2.0
PRODID:spatie/icalendar-generator
NAME:S Corporations: Comprehensive walk through of Form 1120S
X-WR-CALNAME:S Corporations: Comprehensive walk through of Form 1120S
BEGIN:VTIMEZONE
TZID:America/New_York
BEGIN:STANDARD
DTSTART:20251102T010000
TZOFFSETFROM:-0400
TZOFFSETTO:-0500
END:STANDARD
BEGIN:DAYLIGHT
DTSTART:20260308T010000
TZOFFSETFROM:-0500
TZOFFSETTO:-0400
END:DAYLIGHT
END:VTIMEZONE
BEGIN:VTIMEZONE
TZID:UTC
BEGIN:STANDARD
DTSTART:20250727T094736
TZOFFSETFROM:+0000
TZOFFSETTO:+0000
END:STANDARD
END:VTIMEZONE
BEGIN:VEVENT
UID:69e9eab8e0405
DTSTAMP:20260423T094736Z
SUMMARY:S Corporations: Comprehensive walk through of Form 1120S
LOCATION: 
URL:https://macpa.org/catalog/events/21240839-s-corporations-comprehensive-
 walk-through-of-form-1120s-2026-02-04
DTSTART;TZID=America/New_York:20260402T090000
DTEND;TZID=America/New_York:20260402T170000
END:VEVENT
END:VCALENDAR