BEGIN:VCALENDAR
VERSION:2.0
PRODID:spatie/icalendar-generator
NAME:Unlocking Deep Secrets: Case Studies in Financial Analysis
X-WR-CALNAME:Unlocking Deep Secrets: Case Studies in Financial Analysis
BEGIN:VTIMEZONE
TZID:America/New_York
BEGIN:STANDARD
DTSTART:20251102T010000
TZOFFSETFROM:-0400
TZOFFSETTO:-0500
END:STANDARD
BEGIN:DAYLIGHT
DTSTART:20260308T010000
TZOFFSETFROM:-0500
TZOFFSETTO:-0400
END:DAYLIGHT
END:VTIMEZONE
BEGIN:VTIMEZONE
TZID:UTC
BEGIN:STANDARD
DTSTART:20250727T094638
TZOFFSETFROM:+0000
TZOFFSETTO:+0000
END:STANDARD
END:VTIMEZONE
BEGIN:VEVENT
UID:69e9ea7e96254
DTSTAMP:20260423T094638Z
SUMMARY:Unlocking Deep Secrets: Case Studies in Financial Analysis
LOCATION: 
URL:https://macpa.org/catalog/events/21240752-unlocking-deep-secrets-case-s
 tudies-in-financial-analysis-2026-18-02
DTSTART;TZID=America/New_York:20260218T103000
DTEND;TZID=America/New_York:20260218T123000
END:VEVENT
END:VCALENDAR