BEGIN:VCALENDAR
VERSION:2.0
PRODID:spatie/icalendar-generator
NAME:Clean\, Transform & Load Data in Power BI
X-WR-CALNAME:Clean\, Transform & Load Data in Power BI
BEGIN:VTIMEZONE
TZID:America/New_York
BEGIN:STANDARD
DTSTART:20251102T010000
TZOFFSETFROM:-0400
TZOFFSETTO:-0500
END:STANDARD
BEGIN:DAYLIGHT
DTSTART:20260308T010000
TZOFFSETFROM:-0500
TZOFFSETTO:-0400
END:DAYLIGHT
END:VTIMEZONE
BEGIN:VTIMEZONE
TZID:UTC
BEGIN:STANDARD
DTSTART:20250727T094902
TZOFFSETFROM:+0000
TZOFFSETTO:+0000
END:STANDARD
END:VTIMEZONE
BEGIN:VEVENT
UID:69e9eb0e9f8c3
DTSTAMP:20260423T094902Z
SUMMARY:Clean\, Transform & Load Data in Power BI
LOCATION: 
URL:https://macpa.org/catalog/events/21240707-clean-transform-load-data-in-
 power-bi-2026-18-02
DTSTART;TZID=America/New_York:20260218T100000
DTEND;TZID=America/New_York:20260218T120000
END:VEVENT
END:VCALENDAR