BEGIN:VCALENDAR
VERSION:2.0
PRODID:spatie/icalendar-generator
NAME:Create Measures in Power BI that Define Your Metrics
X-WR-CALNAME:Create Measures in Power BI that Define Your Metrics
BEGIN:VTIMEZONE
TZID:America/New_York
BEGIN:STANDARD
DTSTART:20251102T010000
TZOFFSETFROM:-0400
TZOFFSETTO:-0500
END:STANDARD
BEGIN:DAYLIGHT
DTSTART:20260308T010000
TZOFFSETFROM:-0500
TZOFFSETTO:-0400
END:DAYLIGHT
END:VTIMEZONE
BEGIN:VTIMEZONE
TZID:UTC
BEGIN:STANDARD
DTSTART:20250727T094647
TZOFFSETFROM:+0000
TZOFFSETTO:+0000
END:STANDARD
END:VTIMEZONE
BEGIN:VEVENT
UID:69e9ea87b2c86
DTSTAMP:20260423T094647Z
SUMMARY:Create Measures in Power BI that Define Your Metrics
LOCATION: 
URL:https://macpa.org/catalog/events/21240655-create-measures-in-power-bi-t
 hat-define-your-metrics-2026-18-02
DTSTART;TZID=America/New_York:20260218T093000
DTEND;TZID=America/New_York:20260218T133000
END:VEVENT
END:VCALENDAR