BEGIN:VCALENDAR
VERSION:2.0
PRODID:spatie/icalendar-generator
NAME:Accounting of the Soul: Making the World a Better Place
X-WR-CALNAME:Accounting of the Soul: Making the World a Better Place
BEGIN:VTIMEZONE
TZID:America/New_York
BEGIN:STANDARD
DTSTART:20251102T010000
TZOFFSETFROM:-0400
TZOFFSETTO:-0500
END:STANDARD
BEGIN:DAYLIGHT
DTSTART:20260308T010000
TZOFFSETFROM:-0500
TZOFFSETTO:-0400
END:DAYLIGHT
END:VTIMEZONE
BEGIN:VTIMEZONE
TZID:UTC
BEGIN:STANDARD
DTSTART:20250727T162910
TZOFFSETFROM:+0000
TZOFFSETTO:+0000
END:STANDARD
END:VTIMEZONE
BEGIN:VEVENT
UID:69ea48d68086f
DTSTAMP:20260423T162910Z
SUMMARY:Accounting of the Soul: Making the World a Better Place
LOCATION: 
URL:https://macpa.org/catalog/events/21240610-accounting-of-the-soul-making
 -the-world-a-better-place-2026-18-02
DTSTART;TZID=America/New_York:20260218T090000
DTEND;TZID=America/New_York:20260218T100000
END:VEVENT
END:VCALENDAR