BEGIN:VCALENDAR
VERSION:2.0
PRODID:spatie/icalendar-generator
NAME:Tactics to Find Work Life Balance in a Complex World
X-WR-CALNAME:Tactics to Find Work Life Balance in a Complex World
BEGIN:VTIMEZONE
TZID:America/New_York
BEGIN:STANDARD
DTSTART:20251102T010000
TZOFFSETFROM:-0400
TZOFFSETTO:-0500
END:STANDARD
BEGIN:DAYLIGHT
DTSTART:20260308T010000
TZOFFSETFROM:-0500
TZOFFSETTO:-0400
END:DAYLIGHT
END:VTIMEZONE
BEGIN:VTIMEZONE
TZID:UTC
BEGIN:STANDARD
DTSTART:20250727T094726
TZOFFSETFROM:+0000
TZOFFSETTO:+0000
END:STANDARD
END:VTIMEZONE
BEGIN:VEVENT
UID:69e9eaae8edb9
DTSTAMP:20260423T094726Z
SUMMARY:Tactics to Find Work Life Balance in a Complex World
LOCATION: 
URL:https://macpa.org/catalog/events/21240600-tactics-to-find-work-life-bal
 ance-in-a-complex-world-2026-17-02
DTSTART;TZID=America/New_York:20260217T170000
DTEND;TZID=America/New_York:20260217T180000
END:VEVENT
END:VCALENDAR