BEGIN:VCALENDAR
VERSION:2.0
PRODID:spatie/icalendar-generator
NAME:ChatGPT and Advanced Policy Manual Development for ACCTs
X-WR-CALNAME:ChatGPT and Advanced Policy Manual Development for ACCTs
BEGIN:VTIMEZONE
TZID:America/New_York
BEGIN:STANDARD
DTSTART:20251102T010000
TZOFFSETFROM:-0400
TZOFFSETTO:-0500
END:STANDARD
BEGIN:DAYLIGHT
DTSTART:20260308T010000
TZOFFSETFROM:-0500
TZOFFSETTO:-0400
END:DAYLIGHT
END:VTIMEZONE
BEGIN:VTIMEZONE
TZID:UTC
BEGIN:STANDARD
DTSTART:20250727T150033
TZOFFSETFROM:+0000
TZOFFSETTO:+0000
END:STANDARD
END:VTIMEZONE
BEGIN:VEVENT
UID:69ea34113ad23
DTSTAMP:20260423T150033Z
SUMMARY:ChatGPT and Advanced Policy Manual Development for ACCTs
LOCATION: 
URL:https://macpa.org/catalog/events/21240565-chatgpt-and-advanced-policy-m
 anual-development-for-accts-2026-01-04
DTSTART;TZID=America/New_York:20260401T113000
DTEND;TZID=America/New_York:20260401T133000
END:VEVENT
END:VCALENDAR