BEGIN:VCALENDAR
VERSION:2.0
PRODID:spatie/icalendar-generator
NAME:Advanced Excel: Hidden Secrets and Gems
X-WR-CALNAME:Advanced Excel: Hidden Secrets and Gems
BEGIN:VTIMEZONE
TZID:America/New_York
BEGIN:STANDARD
DTSTART:20251102T010000
TZOFFSETFROM:-0400
TZOFFSETTO:-0500
END:STANDARD
BEGIN:DAYLIGHT
DTSTART:20260308T010000
TZOFFSETFROM:-0500
TZOFFSETTO:-0400
END:DAYLIGHT
END:VTIMEZONE
BEGIN:VTIMEZONE
TZID:UTC
BEGIN:STANDARD
DTSTART:20250727T150200
TZOFFSETFROM:+0000
TZOFFSETTO:+0000
END:STANDARD
END:VTIMEZONE
BEGIN:VEVENT
UID:69ea346862522
DTSTAMP:20260423T150200Z
SUMMARY:Advanced Excel: Hidden Secrets and Gems
LOCATION: 
URL:https://macpa.org/catalog/events/21240560-advanced-excel-hidden-secrets
 -and-gems-2026-17-02
DTSTART;TZID=America/New_York:20260217T153000
DTEND;TZID=America/New_York:20260217T173000
END:VEVENT
END:VCALENDAR