BEGIN:VCALENDAR
VERSION:2.0
PRODID:spatie/icalendar-generator
NAME:Hot Topics Accounting Update
X-WR-CALNAME:Hot Topics Accounting Update
BEGIN:VTIMEZONE
TZID:America/New_York
BEGIN:STANDARD
DTSTART:20251102T010000
TZOFFSETFROM:-0400
TZOFFSETTO:-0500
END:STANDARD
BEGIN:DAYLIGHT
DTSTART:20260308T010000
TZOFFSETFROM:-0500
TZOFFSETTO:-0400
END:DAYLIGHT
END:VTIMEZONE
BEGIN:VTIMEZONE
TZID:UTC
BEGIN:STANDARD
DTSTART:20250727T132951
TZOFFSETFROM:+0000
TZOFFSETTO:+0000
END:STANDARD
END:VTIMEZONE
BEGIN:VEVENT
UID:69ea1ecfea442
DTSTAMP:20260423T132951Z
SUMMARY:Hot Topics Accounting Update
LOCATION: 
URL:https://macpa.org/catalog/events/21240406-hot-topics-accounting-update-
 2026-01-04
DTSTART;TZID=America/New_York:20260401T093000
DTEND;TZID=America/New_York:20260401T113000
END:VEVENT
END:VCALENDAR