BEGIN:VCALENDAR
VERSION:2.0
PRODID:spatie/icalendar-generator
NAME:A Working Parent's Guide to Prioritizing Mental Wellness
X-WR-CALNAME:A Working Parent's Guide to Prioritizing Mental Wellness
BEGIN:VTIMEZONE
TZID:America/New_York
BEGIN:STANDARD
DTSTART:20251102T010000
TZOFFSETFROM:-0400
TZOFFSETTO:-0500
END:STANDARD
BEGIN:DAYLIGHT
DTSTART:20260308T010000
TZOFFSETFROM:-0500
TZOFFSETTO:-0400
END:DAYLIGHT
END:VTIMEZONE
BEGIN:VTIMEZONE
TZID:UTC
BEGIN:STANDARD
DTSTART:20250727T094902
TZOFFSETFROM:+0000
TZOFFSETTO:+0000
END:STANDARD
END:VTIMEZONE
BEGIN:VEVENT
UID:69e9eb0e90684
DTSTAMP:20260423T094902Z
SUMMARY:A Working Parent's Guide to Prioritizing Mental Wellness
LOCATION: 
URL:https://macpa.org/catalog/events/21240399-a-working-parents-guide-to-pr
 ioritizing-mental-wellness-2026-17-02
DTSTART;TZID=America/New_York:20260217T130000
DTEND;TZID=America/New_York:20260217T150000
END:VEVENT
END:VCALENDAR