BEGIN:VCALENDAR
VERSION:2.0
PRODID:spatie/icalendar-generator
NAME:Walter Haig's Personal Financial Health Checkup
X-WR-CALNAME:Walter Haig's Personal Financial Health Checkup
BEGIN:VTIMEZONE
TZID:America/New_York
BEGIN:STANDARD
DTSTART:20251102T010000
TZOFFSETFROM:-0400
TZOFFSETTO:-0500
END:STANDARD
BEGIN:DAYLIGHT
DTSTART:20260308T010000
TZOFFSETFROM:-0500
TZOFFSETTO:-0400
END:DAYLIGHT
END:VTIMEZONE
BEGIN:VTIMEZONE
TZID:UTC
BEGIN:STANDARD
DTSTART:20250727T150339
TZOFFSETFROM:+0000
TZOFFSETTO:+0000
END:STANDARD
END:VTIMEZONE
BEGIN:VEVENT
UID:69ea34cbeeb64
DTSTAMP:20260423T150339Z
SUMMARY:Walter Haig's Personal Financial Health Checkup
LOCATION: 
URL:https://macpa.org/catalog/events/21240391-walter-haigs-personal-financi
 al-health-checkup-2026-01-04
DTSTART;TZID=America/New_York:20260401T090000
DTEND;TZID=America/New_York:20260401T170000
END:VEVENT
END:VCALENDAR