BEGIN:VCALENDAR
VERSION:2.0
PRODID:spatie/icalendar-generator
NAME:Entertainment\, Meals & Travel Expenses: Review and Update
X-WR-CALNAME:Entertainment\, Meals & Travel Expenses: Review and Update
BEGIN:VTIMEZONE
TZID:America/New_York
BEGIN:STANDARD
DTSTART:20251102T010000
TZOFFSETFROM:-0400
TZOFFSETTO:-0500
END:STANDARD
BEGIN:DAYLIGHT
DTSTART:20260308T010000
TZOFFSETFROM:-0500
TZOFFSETTO:-0400
END:DAYLIGHT
END:VTIMEZONE
BEGIN:VTIMEZONE
TZID:UTC
BEGIN:STANDARD
DTSTART:20250727T134311
TZOFFSETFROM:+0000
TZOFFSETTO:+0000
END:STANDARD
END:VTIMEZONE
BEGIN:VEVENT
UID:69ea21efe3eae
DTSTAMP:20260423T134311Z
SUMMARY:Entertainment\, Meals & Travel Expenses: Review and Update
LOCATION: 
URL:https://macpa.org/catalog/events/21240347-entertainment-meals-travel-ex
 penses-review-and-update-2026-17-02
DTSTART;TZID=America/New_York:20260217T120000
DTEND;TZID=America/New_York:20260217T140000
END:VEVENT
END:VCALENDAR