BEGIN:VCALENDAR
VERSION:2.0
PRODID:spatie/icalendar-generator
NAME:Integrate ChatGPT into Your Client Advisory Services-Updated
X-WR-CALNAME:Integrate ChatGPT into Your Client Advisory Services-Updated
BEGIN:VTIMEZONE
TZID:America/New_York
BEGIN:STANDARD
DTSTART:20251102T010000
TZOFFSETFROM:-0400
TZOFFSETTO:-0500
END:STANDARD
BEGIN:DAYLIGHT
DTSTART:20260308T010000
TZOFFSETFROM:-0500
TZOFFSETTO:-0400
END:DAYLIGHT
END:VTIMEZONE
BEGIN:VTIMEZONE
TZID:UTC
BEGIN:STANDARD
DTSTART:20250727T150159
TZOFFSETFROM:+0000
TZOFFSETTO:+0000
END:STANDARD
END:VTIMEZONE
BEGIN:VEVENT
UID:69ea3467d1888
DTSTAMP:20260423T150159Z
SUMMARY:Integrate ChatGPT into Your Client Advisory Services-Updated
LOCATION: 
URL:https://macpa.org/catalog/events/21240278-integrate-chatgpt-into-your-c
 lient-advisory-services-updated-2026-17-02
DTSTART;TZID=America/New_York:20260217T103000
DTEND;TZID=America/New_York:20260217T123000
END:VEVENT
END:VCALENDAR