BEGIN:VCALENDAR
VERSION:2.0
PRODID:spatie/icalendar-generator
NAME:Mastering Partnership Basis: Inside and Outside Basis
X-WR-CALNAME:Mastering Partnership Basis: Inside and Outside Basis
BEGIN:VTIMEZONE
TZID:America/New_York
BEGIN:STANDARD
DTSTART:20251102T010000
TZOFFSETFROM:-0400
TZOFFSETTO:-0500
END:STANDARD
BEGIN:DAYLIGHT
DTSTART:20260308T010000
TZOFFSETFROM:-0500
TZOFFSETTO:-0400
END:DAYLIGHT
END:VTIMEZONE
BEGIN:VTIMEZONE
TZID:UTC
BEGIN:STANDARD
DTSTART:20250727T150330
TZOFFSETFROM:+0000
TZOFFSETTO:+0000
END:STANDARD
END:VTIMEZONE
BEGIN:VEVENT
UID:69ea34c20b488
DTSTAMP:20260423T150330Z
SUMMARY:Mastering Partnership Basis: Inside and Outside Basis
LOCATION: 
URL:https://macpa.org/catalog/events/21240253-mastering-partnership-basis-i
 nside-and-outside-basis-2026-31-03
DTSTART;TZID=America/New_York:20260331T140000
DTEND;TZID=America/New_York:20260331T160000
END:VEVENT
END:VCALENDAR