BEGIN:VCALENDAR
VERSION:2.0
PRODID:spatie/icalendar-generator
NAME:AI for CPAs - How it Works and How to Apply it
X-WR-CALNAME:AI for CPAs - How it Works and How to Apply it
BEGIN:VTIMEZONE
TZID:America/New_York
BEGIN:STANDARD
DTSTART:20251102T010000
TZOFFSETFROM:-0400
TZOFFSETTO:-0500
END:STANDARD
BEGIN:DAYLIGHT
DTSTART:20260308T010000
TZOFFSETFROM:-0500
TZOFFSETTO:-0400
END:DAYLIGHT
END:VTIMEZONE
BEGIN:VTIMEZONE
TZID:UTC
BEGIN:STANDARD
DTSTART:20250727T133834
TZOFFSETFROM:+0000
TZOFFSETTO:+0000
END:STANDARD
END:VTIMEZONE
BEGIN:VEVENT
UID:69ea20da950db
DTSTAMP:20260423T133834Z
SUMMARY:AI for CPAs - How it Works and How to Apply it
LOCATION: 
URL:https://macpa.org/catalog/events/21240241-ai-for-cpas-how-it-works-and-
 how-to-apply-it-2026-17-02
DTSTART;TZID=America/New_York:20260217T100000
DTEND;TZID=America/New_York:20260217T140000
END:VEVENT
END:VCALENDAR