BEGIN:VCALENDAR
VERSION:2.0
PRODID:spatie/icalendar-generator
NAME:CFO Solutions to IRS Problems
X-WR-CALNAME:CFO Solutions to IRS Problems
BEGIN:VTIMEZONE
TZID:America/New_York
BEGIN:STANDARD
DTSTART:20251102T010000
TZOFFSETFROM:-0400
TZOFFSETTO:-0500
END:STANDARD
BEGIN:DAYLIGHT
DTSTART:20260308T010000
TZOFFSETFROM:-0500
TZOFFSETTO:-0400
END:DAYLIGHT
END:VTIMEZONE
BEGIN:VTIMEZONE
TZID:UTC
BEGIN:STANDARD
DTSTART:20250727T150210
TZOFFSETFROM:+0000
TZOFFSETTO:+0000
END:STANDARD
END:VTIMEZONE
BEGIN:VEVENT
UID:69ea3472e4100
DTSTAMP:20260423T150210Z
SUMMARY:CFO Solutions to IRS Problems
LOCATION: 
URL:https://macpa.org/catalog/events/21240023-cfo-solutions-to-irs-problems
 -2026-16-02
DTSTART;TZID=America/New_York:20260216T140000
DTEND;TZID=America/New_York:20260216T180000
END:VEVENT
END:VCALENDAR