BEGIN:VCALENDAR
VERSION:2.0
PRODID:spatie/icalendar-generator
NAME:Money Laundering Awareness for Accountants
X-WR-CALNAME:Money Laundering Awareness for Accountants
BEGIN:VTIMEZONE
TZID:America/New_York
BEGIN:STANDARD
DTSTART:20251102T010000
TZOFFSETFROM:-0400
TZOFFSETTO:-0500
END:STANDARD
BEGIN:DAYLIGHT
DTSTART:20260308T010000
TZOFFSETFROM:-0500
TZOFFSETTO:-0400
END:DAYLIGHT
END:VTIMEZONE
BEGIN:VTIMEZONE
TZID:UTC
BEGIN:STANDARD
DTSTART:20250727T095012
TZOFFSETFROM:+0000
TZOFFSETTO:+0000
END:STANDARD
END:VTIMEZONE
BEGIN:VEVENT
UID:69e9eb5430c39
DTSTAMP:20260423T095012Z
SUMMARY:Money Laundering Awareness for Accountants
LOCATION: 
URL:https://macpa.org/catalog/events/21239877-money-laundering-awareness-fo
 r-accountants-2026-30-03
DTSTART;TZID=America/New_York:20260330T160000
DTEND;TZID=America/New_York:20260330T180000
END:VEVENT
END:VCALENDAR