BEGIN:VCALENDAR
VERSION:2.0
PRODID:spatie/icalendar-generator
NAME:Partnership/LLC Taxation: Tax Basis Capital Accounts
X-WR-CALNAME:Partnership/LLC Taxation: Tax Basis Capital Accounts
BEGIN:VTIMEZONE
TZID:America/New_York
BEGIN:STANDARD
DTSTART:20251102T010000
TZOFFSETFROM:-0400
TZOFFSETTO:-0500
END:STANDARD
BEGIN:DAYLIGHT
DTSTART:20260308T010000
TZOFFSETFROM:-0500
TZOFFSETTO:-0400
END:DAYLIGHT
END:VTIMEZONE
BEGIN:VTIMEZONE
TZID:UTC
BEGIN:STANDARD
DTSTART:20250727T150421
TZOFFSETFROM:+0000
TZOFFSETTO:+0000
END:STANDARD
END:VTIMEZONE
BEGIN:VEVENT
UID:69ea34f565711
DTSTAMP:20260423T150421Z
SUMMARY:Partnership/LLC Taxation: Tax Basis Capital Accounts
LOCATION: 
URL:https://macpa.org/catalog/events/21239847-partnershipllc-taxation-tax-b
 asis-capital-accounts-2026-16-02
DTSTART;TZID=America/New_York:20260216T113000
DTEND;TZID=America/New_York:20260216T133000
END:VEVENT
END:VCALENDAR